BEGIN:VCALENDAR
VERSION:2.0
PRODID:-//wp-events-plugin.com//7.2.3.1//EN
TZID:America/Toronto
X-WR-TIMEZONE:America/Toronto
BEGIN:VEVENT
UID:42@junctioncreek.com
DTSTART;TZID=America/Toronto:20240522T180000
DTEND;TZID=America/Toronto:20240522T200000
DTSTAMP:20240519T234701Z
URL:https://junctioncreek.com/events/agm_2024/
SUMMARY:Junction Creek Stewardship Committee - AGM
DESCRIPTION:2021 JCSC AGM
CATEGORIES:Home Page Event
LOCATION:Living with Lakes Centre / Zoom\, 840 Ramsey Lake Rd\, Sudbury\, O
 ntario\, P3E 6H5\, Canada
GEO:46.471903;-80.972849
X-APPLE-STRUCTURED-LOCATION;VALUE=URI;X-ADDRESS=840 Ramsey Lake Rd\, Sudbur
 y\, Ontario\, P3E 6H5\, Canada;X-APPLE-RADIUS=100;X-TITLE=Living with Lake
 s Centre / Zoom:geo:46.471903,-80.972849
END:VEVENT
BEGIN:VTIMEZONE
TZID:America/Toronto
X-LIC-LOCATION:America/Toronto
BEGIN:DAYLIGHT
DTSTART:20240310T030000
TZOFFSETFROM:-0500
TZOFFSETTO:-0400
TZNAME:EDT
END:DAYLIGHT
END:VTIMEZONE
END:VCALENDAR